BEGIN:VCALENDAR
VERSION:2.0
PRODID:-//A Vértes Agoraja - ECPv4.9.13//NONSGML v1.0//EN
CALSCALE:GREGORIAN
METHOD:PUBLISH
X-WR-CALNAME:A Vértes Agoraja
X-ORIGINAL-URL:https://old.avertesagoraja.hu
X-WR-CALDESC:Events for A Vértes Agoraja
BEGIN:VTIMEZONE
TZID:Europe/Paris
BEGIN:DAYLIGHT
TZOFFSETFROM:+0100
TZOFFSETTO:+0200
TZNAME:CEST
DTSTART:20190331T010000
END:DAYLIGHT
BEGIN:STANDARD
TZOFFSETFROM:+0200
TZOFFSETTO:+0100
TZNAME:CET
DTSTART:20191027T010000
END:STANDARD
END:VTIMEZONE
BEGIN:VEVENT
DTSTART;TZID=Europe/Paris:20190426T170000
DTEND;TZID=Europe/Paris:20190426T180000
DTSTAMP:20260425T111150
CREATED:20190416T112340Z
LAST-MODIFIED:20190904T083035Z
UID:44384-1556298000-1556301600@old.avertesagoraja.hu
SUMMARY:Albánia színei
DESCRIPTION:\n\n	\n\n        20190426_01\n\n        \n\n        \n            \n        \n\n         \n\n        \n\n            \n                \n                    ◄ Előző                \n            \n\n            \n                \n                    Következő                    ►\n                \n            \n\n            \n                Kép                1                 /                13            \n\n            \n                  \n            \n\n        \n    \n\n\n \nKiállításmegnyitó\nA Vértes Agorája emeleti galériáján fotókiállítás nyílik\, amely Albánia természeti és kulturális értékeit\, valamint hagyományait mutatja be. \nA kiállítást Albánia magyarországi nagykövete\, Arian Spasse nyitja meg egy\, az országról készült rövidfilm segítségével\, amely arra hivatott\, hogy leszámoljon az előítéletekkel és bemutassa a valóságot. A nagykövettől arról is hallhatunk\, hol tart most a nyugat-balkáni állam az EU-s integrációval. \nA fotók a megnyitót követő egy héten át láthatók az Agorában.\n
URL:https://old.avertesagoraja.hu/program/albania-szinei/
LOCATION:A Vértes Agorája\, Szent Borbála tér 1.\, Tatabánya\, 2800\, Magyarország
CATEGORIES:Nemzetközi kapcsolatok,Programkínálat
ATTACH;FMTTYPE=image/jpeg:https://old.avertesagoraja.hu/wp-content/uploads/2019/04/Albania_2019_800x400.jpg
END:VEVENT
END:VCALENDAR