BEGIN:VCALENDAR
VERSION:2.0
PRODID:-//A Vértes Agoraja - ECPv4.9.13//NONSGML v1.0//EN
CALSCALE:GREGORIAN
METHOD:PUBLISH
X-WR-CALNAME:A Vértes Agoraja
X-ORIGINAL-URL:https://old.avertesagoraja.hu
X-WR-CALDESC:Events for A Vértes Agoraja
BEGIN:VTIMEZONE
TZID:Europe/Helsinki
BEGIN:DAYLIGHT
TZOFFSETFROM:+0200
TZOFFSETTO:+0300
TZNAME:EEST
DTSTART:20230326T010000
END:DAYLIGHT
BEGIN:STANDARD
TZOFFSETFROM:+0300
TZOFFSETTO:+0200
TZNAME:EET
DTSTART:20231029T010000
END:STANDARD
END:VTIMEZONE
BEGIN:VEVENT
DTSTART;TZID=Europe/Helsinki:20230714T190000
DTEND;TZID=Europe/Helsinki:20230714T203000
DTSTAMP:20260425T133345
CREATED:20230531T142348Z
LAST-MODIFIED:20230531T142348Z
UID:60795-1689361200-1689366600@old.avertesagoraja.hu
SUMMARY:Agora Zenei Esték II. | Black Diamond Big Band  
DESCRIPTION:A Vértes Agorája nyári kínálatának klasszikus sorozata az Agora Zenei Esték. Minden júliusban – péntekenként – különleges koncertek várják Tatabánya zeneszerető és értő közönségét\, a Zenepavilonnál. Idén négy programmal készülünk. \n \nTatabányai Black Diamond Big Band \nA jazz műfajában a big band a nagyzenekar. A 15-20 fős zenekar összefogása\, életben tartása nem kis feladat\, ezért is különleges dolog\, hogy Tatabánya immár 25 éve büszkélkedhet egy ilyen formációval. A Black Diamond Big Band az Agora Zenei Esték visszatérő fellépője\, nyáresti koncertjükön ezúttal Farkas Gábor Gábriel énekes lesz a vendég. \n  \nAz Agora Zenei Esték helyszíne a Zenepavilon (az Erkel Ferenc Zeneiskola előtti tér)\, mostoha időjárás esetén a koncert az Agorában lesz.\n
URL:https://old.avertesagoraja.hu/program/agora-zenei-estek-ii-black-diamond-big-band/
LOCATION:Zenepavilon\, Fő tér\, Tatabánya\, Komárom-Esztergom\, 2800\, Magyarország
CATEGORIES:Programkínálat,Saját szervezésű rendezvény
ATTACH;FMTTYPE=image/jpeg:https://old.avertesagoraja.hu/wp-content/uploads/2023/05/2023_Agora_zenei_estek_800x400_black-diamond.jpg
END:VEVENT
END:VCALENDAR