BEGIN:VCALENDAR
VERSION:2.0
PRODID:-//A Vértes Agoraja - ECPv4.9.13//NONSGML v1.0//EN
CALSCALE:GREGORIAN
METHOD:PUBLISH
X-WR-CALNAME:A Vértes Agoraja
X-ORIGINAL-URL:https://old.avertesagoraja.hu
X-WR-CALDESC:Events for A Vértes Agoraja
BEGIN:VTIMEZONE
TZID:UTC
BEGIN:STANDARD
TZOFFSETFROM:+0000
TZOFFSETTO:+0000
TZNAME:UTC
DTSTART:20170101T000000
END:STANDARD
END:VTIMEZONE
BEGIN:VEVENT
DTSTART;TZID=UTC:20170707T190000
DTEND;TZID=UTC:20170707T203000
DTSTAMP:20260425T205619
CREATED:20170614T092334Z
LAST-MODIFIED:20170712T072502Z
UID:19506-1499454000-1499459400@old.avertesagoraja.hu
SUMMARY:Agora Zenei Esték I.
DESCRIPTION:Jazz time\n\n\n	\n\n        20170707-01\n\n        \n\n        \n            \n        \n\n         \n\n        \n\n            \n                \n                    ◄ Előző                \n            \n\n            \n                \n                    Következő                    ►\n                \n            \n\n            \n                Kép                1                 /                24            \n\n            \n                  \n            \n\n        \n    \n\n\n  \nA Dallam Hangja verseny díjazottjai bemutatkozása\, valamint Micheller Myrtill és a Swinguistique  koncertje \nA 2011-ben alakult zenekar műsora a XX. század Franciaországának hangulatát idézi fel francia és angol nyelvű dalokkal\, vidám gipsy swing stílusban. Első albumuk 2012-ben jelent meg\, s hamarosan aranylemez lett. Myrtill és a Swinguistique 2014-ben megjelent második\, magyar nyelvű albuma pedig az ’50-es\, ’60-as évek közismert és elfeledett dalait dolgozza fel\, néhány saját dallal kiegészítve. 2016-ban új koncertműsort készítettek\, a rájuk jellemző sajátos stílusban\, amely március 18-án a MÜPA nagyszínpadán debütált\, hatalmas sikerrel\, teltházzal. \nA formáció tagjai: Micheller Myrtill (ének)\, Pintér Tibor (gitár)\, Pintér László (gitár)\, Sárkány Sándor (nagybőgő)\, Gálfi Attila (dob). \n \nA program ingyenes. \n  \n\n
URL:https://old.avertesagoraja.hu/program/agora-zenei-estek-i/
LOCATION:A Vértes Agorája\, Szent Borbála tér 1.\, Tatabánya\, 2800\, Magyarország
CATEGORIES:Archívum,Programkínálat
ATTACH;FMTTYPE=image/png:https://old.avertesagoraja.hu/wp-content/uploads/2017/03/800_400_zenei_estek_02.png
END:VEVENT
END:VCALENDAR