BEGIN:VCALENDAR
VERSION:2.0
PRODID:-//A Vértes Agoraja - ECPv4.9.13//NONSGML v1.0//EN
CALSCALE:GREGORIAN
METHOD:PUBLISH
X-WR-CALNAME:A Vértes Agoraja
X-ORIGINAL-URL:https://old.avertesagoraja.hu
X-WR-CALDESC:Events for A Vértes Agoraja
BEGIN:VTIMEZONE
TZID:Europe/Paris
BEGIN:DAYLIGHT
TZOFFSETFROM:+0100
TZOFFSETTO:+0200
TZNAME:CEST
DTSTART:20180325T010000
END:DAYLIGHT
BEGIN:STANDARD
TZOFFSETFROM:+0200
TZOFFSETTO:+0100
TZNAME:CET
DTSTART:20181028T010000
END:STANDARD
END:VTIMEZONE
BEGIN:VEVENT
DTSTART;TZID=Europe/Paris:20180720T190000
DTEND;TZID=Europe/Paris:20180720T203000
DTSTAMP:20260425T172548
CREATED:20180605T114240Z
LAST-MODIFIED:20180725T054650Z
UID:37154-1532113200-1532118600@old.avertesagoraja.hu
SUMMARY:Agora Zenei Esték III. | Cimbaliband - Balkán Projekt
DESCRIPTION:\n\n	\n\n        20180720_01\n\n        \n\n        \n            \n        \n\n         \n\n        \n\n            \n                \n                    ◄ Előző                \n            \n\n            \n                \n                    Következő                    ►\n                \n            \n\n            \n                Kép                1                 /                33            \n\n            \n                  \n            \n\n        \n    \n\n\n  \n \nA Cimbaliband Balkán Projekt koncertje a Balkán népeinek habitusával\, virtuozitásával közelíti a népzenét\, és adja át annak pozitív mondanivalóját a hallgatóságnak. Unger Balázs zenekarvezető\, cimbalmos és népzene-pedagógus gyűjtőútjai során lenyűgözve nyugtázta\, hogy az erről a vidékről származó zenészek egyedülálló módon bánnak saját népdalaikkal. Náluk nem állt meg a népzene fejlődése\, az ezredforduló után is mindennapjaik részét képzi. Ez a példaértékű hozzáállás a legfőbb mondanivalója a Balkán Projektnek. \nÉs miért ne most venné elő ezt a tematikát a Cimbaliband\, mikor az egész világ Balkán-lázban ég! Meghódította a szerb és román muzsika a legnagyobb fesztiválok színpadát\, de még a kereskedelmi rádiók játszási listáit is! Európa már nem a nyugati sztárokkal\, hanem az autentikus kelet-európai bandákkal foglalkozik. Nem is csoda\, hiszen nem kell feltétlenül egy Kusturica filmekből ismerős cigány falucskában születni ahhoz\, hogy megértsük és átérezzük a balkáni zenét és életérzést. Az erőteljes ritmusokra és fergeteges táncdallamokra a mi szívünk is ugyanúgy dobban. \nA Cimbaliband a repertoárt képező szerb\, román\, bolgár és cigány dallamokat ízesen\, dinamikusan\, temperamentumosan és stílusosan tolmácsolja. A változatos összeállítású dalokban helyet kapnak virtuóz hangszerszólók is\, a szokásos felállás mellé pedig most a harmonika (Barity Zorán)\, a szaxofon (Bede Péter) és a trombita (Kovács Ferenc) is csatlakozik. A balkáni muzsika az X-Faktorból ismert Danics Dóra énekesnőnek kislány kora óta nagy kedvence\, talán ezért is\, s gyökereinek köszönhetően tud tökéletesen belesimulni ebbe a hallatlanul színes világba. Egyszóval\, nem lesz leállás\, pihenés\, de gyanítjuk\, hogy ha egész álló napig húzná a banda\, akkor is többet akarna a közönség! \n \n \nAz Agora Zenei Esték helyszíne a Zenepavilon\,\nkedvezőtlen időjárás esetén pedig A Vértes Agorája nagyterme.\n \nKedves Közönségünk!\nA zenei piknikre bátran hozhatnak plédeket\, hogy a füves részen kényelmesen élvezhessék a programot. Ha úgy gondolják\, a  kedvenc széküket se feledjék otthon.\nRossz idő esetén A Vértes Agorájában játszanak a fellépők.  Ebben az esetben a koncertet korlátozott számban – a befogadóképesség határáig\, érkezési sorrendben elfoglalva a helyeket – tekinthetik meg az érdeklődők.\n \n \n \n  \n
URL:https://old.avertesagoraja.hu/program/agora-zenei-estek-2018-iii/
LOCATION:Zenepavilon\, Fő tér\, Tatabánya\, Komárom-Esztergom\, 2800\, Magyarország
CATEGORIES:Programkínálat
ATTACH;FMTTYPE=image/jpeg:https://old.avertesagoraja.hu/wp-content/uploads/2018/06/Agora-Zenei-Estek_2018_800x400_Cimbaliband.jpg
END:VEVENT
END:VCALENDAR