BEGIN:VCALENDAR
VERSION:2.0
PRODID:-//A Vértes Agoraja - ECPv4.9.13//NONSGML v1.0//EN
CALSCALE:GREGORIAN
METHOD:PUBLISH
X-WR-CALNAME:A Vértes Agoraja
X-ORIGINAL-URL:https://old.avertesagoraja.hu
X-WR-CALDESC:Events for A Vértes Agoraja
BEGIN:VTIMEZONE
TZID:Europe/Helsinki
BEGIN:DAYLIGHT
TZOFFSETFROM:+0200
TZOFFSETTO:+0300
TZNAME:EEST
DTSTART:20210328T010000
END:DAYLIGHT
BEGIN:STANDARD
TZOFFSETFROM:+0300
TZOFFSETTO:+0200
TZNAME:EET
DTSTART:20211031T010000
END:STANDARD
END:VTIMEZONE
BEGIN:VEVENT
DTSTART;TZID=Europe/Helsinki:20211001T090000
DTEND;TZID=Europe/Helsinki:20211001T193000
DTSTAMP:20260425T144744
CREATED:20210917T125733Z
LAST-MODIFIED:20210923T102332Z
UID:55734-1633078800-1633116600@old.avertesagoraja.hu
SUMMARY:A zene világnapja
DESCRIPTION:TATABÁNYAI PROGRAMOK \n9:00 h\nÉLMÉNYDOBOLÁS A PERON TEHETSÉGKÖZPONTTAL\nKodály Zoltán Általános Iskola\n(zártkörű) \n15:30 h\nKHALY\nutcazene a Csónakázó-tónál \n16:30 h\nTATABÁNYAI ÁRPÁD GIMNÁZIUM VEGYESKARA\nflashmob az Interspar parkolójában \n18:00 h\nRÁKÁSZ GERGELY & SILVER POWER\norgonakoncertje A Vértes Agorája előtt \n1975-ben Yehudi Menuhin hegedűművész – aki kedvezményezte létrejöttét – ezekkel a szavakkal köszöntötte A zene világnapját: „Szavakkal már nagyon sokszor visszaéltek\, különösen a korunk társadalmában egyre növekvő tudatlanság következtében. A zene azonban továbbra is módot ad arra\, hogy az emberek ma is megértsék egymást\, amikor az emberiségtől a múlt előítéletei távolabb állnak\, mint valaha\, de megerősödve kerülnek előtérbe azok az örök értékek\, amelyek mindig részét képezték bármely nép minden művészi megnyilvánulásának.” \nForrás: fidelio.hu \n
URL:https://old.avertesagoraja.hu/program/a-zene-vilagnapja-2021/
CATEGORIES:Programkínálat
ATTACH;FMTTYPE=image/png:https://old.avertesagoraja.hu/wp-content/uploads/2021/09/800x400_a_zene_vilagnapja.png
END:VEVENT
END:VCALENDAR