BEGIN:VCALENDAR
VERSION:2.0
PRODID:-//A Vértes Agoraja - ECPv4.9.13//NONSGML v1.0//EN
CALSCALE:GREGORIAN
METHOD:PUBLISH
X-WR-CALNAME:A Vértes Agoraja
X-ORIGINAL-URL:https://old.avertesagoraja.hu
X-WR-CALDESC:Events for A Vértes Agoraja
BEGIN:VTIMEZONE
TZID:Europe/Paris
BEGIN:DAYLIGHT
TZOFFSETFROM:+0100
TZOFFSETTO:+0200
TZNAME:CEST
DTSTART:20180325T010000
END:DAYLIGHT
BEGIN:STANDARD
TZOFFSETFROM:+0200
TZOFFSETTO:+0100
TZNAME:CET
DTSTART:20181028T010000
END:STANDARD
END:VTIMEZONE
BEGIN:VEVENT
DTSTART;TZID=Europe/Paris:20180124T180000
DTEND;TZID=Europe/Paris:20180124T193000
DTSTAMP:20260425T025817
CREATED:20171214T194131Z
LAST-MODIFIED:20180121T082347Z
UID:30435-1516816800-1516822200@old.avertesagoraja.hu
SUMMARY:A vendégek
DESCRIPTION:[vc_row][vc_column][vc_column_text] \nTéli Filmnapok A Vértes Agorájában\n2018 januárjában\, szerdánként.\n[/vc_column_text][/vc_column][/vc_row][vc_row][vc_column][vc_column_text] \nA vendégek\n \nfeliratos angol fekete komédia| 71 perc | 2017 \n16 éven aluliaknak nem ajánlott\n[/vc_column_text][/vc_column][/vc_row][vc_row][vc_column][vc_column_text] \nAz elegáns londoni házban baráti társaság gyűlik össze\, hogy ünnepeljen: Janetet\, a háziasszonyt pár órája választották meg a brit árnyékkormány miniszterévé. Úgy tűnik azonban\, hogy ma szinte minden jelenlevőnek van valami szenzációs bejelentenivalója\, és a vendégek egyre kevésbé figyelnek Janet példa nélküli sikerére. Rejtélyes telefonhívások érkeznek\, az egyik várva várt vendég távol marad\, és egyszer csak előkerül egy pisztoly is… \nForrás: www.port.hu \n  \n[/vc_column_text][/vc_column][/vc_row][vc_row][vc_column width=”1/2″][vc_column_text] \n\n\nSzereplők\n \n\n\nJanet Kristin Scott Thomas  \n\n\nApril Patricia Clarkson  \n\n\nBill Timothy Spall  \n\n\nTom Cillian Murphy  \n\n\nJinny Emily Mortimer  \n\n\nGottfried Bruno Ganz  \n\n\nMartha Cherry Jones  \n\n\n\n\n\n[/vc_column_text][/vc_column][vc_column width=”1/2″][vc_column_text] \n\n\nAlkotók\nrendező és forgatókönyvíró\n Sally Potter\noperatőr:   Aleksei Rodionov\nvágó:  Emilie Orsini     Anders Refn   \n\n\n[/vc_column_text][/vc_column][/vc_row][vc_row][vc_column][vc_column_text][/vc_column_text][/vc_column][/vc_row] \n
URL:https://old.avertesagoraja.hu/program/a-vendegek/
LOCATION:A Vértes Agorája\, Szent Borbála tér 1.\, Tatabánya\, 2800\, Magyarország
CATEGORIES:Programkínálat
ATTACH;FMTTYPE=image/jpeg:https://old.avertesagoraja.hu/wp-content/uploads/2017/12/Teli-filmnapok_2018_800x400_3.jpg
END:VEVENT
END:VCALENDAR