BEGIN:VCALENDAR
VERSION:2.0
PRODID:-//A Vértes Agoraja - ECPv4.9.13//NONSGML v1.0//EN
CALSCALE:GREGORIAN
METHOD:PUBLISH
X-WR-CALNAME:A Vértes Agoraja
X-ORIGINAL-URL:https://old.avertesagoraja.hu
X-WR-CALDESC:Events for A Vértes Agoraja
BEGIN:VTIMEZONE
TZID:Europe/Helsinki
BEGIN:DAYLIGHT
TZOFFSETFROM:+0200
TZOFFSETTO:+0300
TZNAME:EEST
DTSTART:20240331T010000
END:DAYLIGHT
BEGIN:STANDARD
TZOFFSETFROM:+0300
TZOFFSETTO:+0200
TZNAME:EET
DTSTART:20241027T010000
END:STANDARD
END:VTIMEZONE
BEGIN:VEVENT
DTSTART;TZID=Europe/Helsinki:20240604T170000
DTEND;TZID=Europe/Helsinki:20240604T183000
DTSTAMP:20260425T162007
CREATED:20240411T102253Z
LAST-MODIFIED:20240604T095835Z
UID:63058-1717520400-1717525800@old.avertesagoraja.hu
SUMMARY:A Nemzeti Összetartozás Napja
DESCRIPTION:A nemzeti összetartozás napja\nA megemlékezés programja:\nTérzene \nHimnusz \nLélekharang \nVers és dal\nJózsef Attila: Nem! Nem! Soha!\nElőadják: Beck Zsombor| Czaun Dániel | Majlinger Anna | Perjési Dorottya \nCredo együttes: Magyarnak születtem\nElőadja: Kaszás Lilla Kata \nÜnnepi beszéd\nSzücsné Posztovics Ilona\, Tatabánya polgármestere \nVers és dal\nReményik Sándor: Gyűrűt készíttetek\nElőadja: Harsányi Péter \nCredo Együttes: Mert a haza nem eladó\nElőadja: Kaszás Lilla Kata \nÜnnepi beszéd\nBencsik János\, miniszterelnöki biztos\, a Tatai-medence országgyűlési képviselője \nKoszorúzás \nZáró imádság\nHamar László\, lelkész \nSzózat    \n \nKözreműködők:\nTatabánya Város Fúvószenekara\na Szent Margit Gimnázium és Általános Iskola diákjai \n
URL:https://old.avertesagoraja.hu/program/a-nemzeti-osszetartozas-napja-2024/
LOCATION:Életfa szobor\, Fő tér\, Tatabánya\, Komárom-Esztergom\, 2800\, Magyarország
CATEGORIES:Programkínálat
ATTACH;FMTTYPE=image/jpeg:https://old.avertesagoraja.hu/wp-content/uploads/2024/04/20240604_Nemzeti_osszetartozas_bannerek_800x400.jpg
END:VEVENT
END:VCALENDAR