BEGIN:VCALENDAR
VERSION:2.0
PRODID:-//A Vértes Agoraja - ECPv4.9.13//NONSGML v1.0//EN
CALSCALE:GREGORIAN
METHOD:PUBLISH
X-WR-CALNAME:A Vértes Agoraja
X-ORIGINAL-URL:https://old.avertesagoraja.hu
X-WR-CALDESC:Events for A Vértes Agoraja
BEGIN:VTIMEZONE
TZID:Europe/Paris
BEGIN:DAYLIGHT
TZOFFSETFROM:+0100
TZOFFSETTO:+0200
TZNAME:CEST
DTSTART:20200329T010000
END:DAYLIGHT
BEGIN:STANDARD
TZOFFSETFROM:+0200
TZOFFSETTO:+0100
TZNAME:CET
DTSTART:20201025T010000
END:STANDARD
END:VTIMEZONE
BEGIN:VEVENT
DTSTART;TZID=Europe/Paris:20200927T190000
DTEND;TZID=Europe/Paris:20200927T213000
DTSTAMP:20260425T143558
CREATED:20200205T072222Z
LAST-MODIFIED:20200930T085413Z
UID:50827-1601233200-1601242200@old.avertesagoraja.hu
SUMMARY:A nagy Szenes gála
DESCRIPTION:\n\n\n\n 	\n\n        \n\n            \n        \n\n         \n\n\n        \n\n            \n        \n\n         \n\n\n        \n\n            \n        \n\n         \n\n\n        \n\n            \n        \n\n         \n\n\n        \n\n            \n        \n\n         \n\n\n        \n\n            \n        \n\n         \n\n\n        \n\n            \n        \n\n         \n\n\n        \n\n            \n        \n\n         \n\n\n        \n\n            \n        \n\n         \n\n\n        \n\n            \n        \n\n         \n\n\n        \n\n            \n        \n\n         \n\n\n        \n\n            \n        \n\n         \n\n\n        \n\n            \n        \n\n         \n\n\n        \n\n            \n        \n\n         \n\n\n        \n\n            \n        \n\n         \n\n\n        \n\n            \n        \n\n         \n\n\n        \n\n            \n        \n\n         \n\n\n        \n\n            \n        \n\n         \n\n\n        \n\n            \n        \n\n         \n\n\n        \n\n            \n        \n\n         \n\n\n        \n\n            \n        \n\n         \n\n\n        \n\n            \n        \n\n         \n\n\n        \n\n            \n        \n\n         \n\n\n        \n\n            \n        \n\n         \n\n\n        \n\n            \n        \n\n         \n\n\n        \n\n            \n        \n\n         \n\n\n        \n\n            \n        \n\n         \n\n\n        \n\n            \n        \n\n         \n\n\n        \n\n            \n        \n\n         \n\n\n        \n\n            \n        \n\n         \n\n\n        \n\n            \n        \n\n         \n\n\n\n		\n	\n        [Bélyegképek megjelenítése]\n	\n\nA program eredetileg április 19-én lett volna. Az arra az időpontra megváltott jegyek érvényesek. \nAzok számára\, akiknek az új időpont nem megfelelő\, a veszélyhelyzet megszűnte után lehetőségük lesz visszaváltani belépőjegyeiket (a vásárlás helyszínén).\n \nAz online vásárolt belépőjegyeket EZEN a felületen lehet visszaváltani (június 19-éig)\, ha az új időpont nem megfelelő. \nSzenes Iván – szövegíró és dalszerző – nevét a fiatalok is jól ismerik\, hiszen időtlen slágerek százai fűződnek hozzá. Szövegei\, “bemondásai” mára a kollektív emlékezet részévé lettek. Hogy csak néhányat említsünk: \nMondd\, miért szeretsz Te mást?\nNehéz a boldogságtól búcsút venni\nLazítani\nÚgy szeretném meghálálni\nOrchideák…\nDalait újra és újra feldolgozzák\, s a mindenkori legnépszerűbb énekesek tűzik műsorukra.\nMost a Monarchia Operett társulata döntött úgy\, hogy reprezentatív turné keretében emlékezik meg Magyarország legtöbbet játszott szerzőjéről\, Szenes Ivánról. \n2 X 45 perces előadásukban a legkedveltebb dalai  közül válogatnak. \n  \nKislány a zongoránál\, Isten Véled\, édes Piroskám\, Annál az első ügyetlen csóknál\, Tölcsért csinálok a kezemből\, Próbálj meg lazítani\, Szeretni bolondulásig\, Nem vagyok teljesen őrült\, Ha legközelebb látlak\, Egy tisztes\, őszes halánték\, Én édes Katinkám\, Találd ki gyorsan a gondolatom\, Félteni kell\, Engem nem lehet elfelejteni\, Jamaicai trombitás …\n \n  \n \n  \nBelépőjegyek A Vértes Agorája jegypénztárában is kaphatók.\nUtalványt\, valamint Cafeteria- és SZÉP Kártyát erre a rendezvényre nem áll módunkban elfogadni.\nBővebb információ\n
URL:https://old.avertesagoraja.hu/program/a-nagy-szenes-gala/
LOCATION:A Vértes Agorája\, Szent Borbála tér 1.\, Tatabánya\, 2800\, Magyarország
CATEGORIES:Befogadott rendezvény,Programkínálat
ATTACH;FMTTYPE=image/jpeg:https://old.avertesagoraja.hu/wp-content/uploads/2020/02/Szenes_800x400.jpg
END:VEVENT
END:VCALENDAR