BEGIN:VCALENDAR
VERSION:2.0
PRODID:-//A Vértes Agoraja - ECPv4.9.13//NONSGML v1.0//EN
CALSCALE:GREGORIAN
METHOD:PUBLISH
X-WR-CALNAME:A Vértes Agoraja
X-ORIGINAL-URL:https://old.avertesagoraja.hu
X-WR-CALDESC:Events for A Vértes Agoraja
BEGIN:VTIMEZONE
TZID:Europe/Paris
BEGIN:DAYLIGHT
TZOFFSETFROM:+0100
TZOFFSETTO:+0200
TZNAME:CEST
DTSTART:20190331T010000
END:DAYLIGHT
BEGIN:STANDARD
TZOFFSETFROM:+0200
TZOFFSETTO:+0100
TZNAME:CET
DTSTART:20191027T010000
END:STANDARD
END:VTIMEZONE
BEGIN:VEVENT
DTSTART;TZID=Europe/Paris:20191007T180000
DTEND;TZID=Europe/Paris:20191007T200000
DTSTAMP:20260426T000522
CREATED:20190918T132941Z
LAST-MODIFIED:20190919T063319Z
UID:46999-1570471200-1570478400@old.avertesagoraja.hu
SUMMARY:A Kortárs Galéria bemutatja... festővászon helyett filmvásznon
DESCRIPTION:[vc_row][vc_column][vc_column_text]A tatabányai Kortárs Galéria tágítja a vizuális horizontot\, s évente kétszer művészfilmeket mutat be látogatóinak és – mi sem természetesebb – az underground mozi értő közönségének. \nElsőként „A halál és a lányka” című – Egon Schiele életéről és művészetéről szóló – játékfilmet vetítjük.\nA mindössze 28 évet élt osztrák festő – akinek fékezhetetlen tehetsége minden korlátot áthágott – gazdag életművet hagyott hátra. Rövid\, viszontagságos élete alatt fenekestül forgatta fel kora művészetről alkotott elképzelését\, s vált halhatatlanná: provokatív alkotásai – amelyek fő témája a szexualitás és a halál – ma már felbecsülhetetlen értékkel bírnak. Az osztrák-luxemburgi koprodukcióban készült filmdráma merészségben nem marad el ihletőjétől![/vc_column_text][/vc_column][/vc_row][vc_row][vc_column][vc_column_text] \n\nEgon Schiele: A halál és a lányka\n\nEgon Schiele – Tod und Mädchen\n osztrák-luxemburgi életrajzi film | 110 perc | 2016\n12 éven aluliak számára a megtekintése nagykorú felügyelete mellett ajánlott\nDieter Berner díjnyertes életrajzi drámájában a 20. század eleji Bécs egyik legizgalmasabb művésze\, Egon Schiele életét és művészetét veszi górcső alá. Schiele provokatív munkáit az erotika és az elmúlás alakították\, a maga korában festményeit komoly botrányok övezték\, bíróság elé is állították. Úgy gondolták\, Schiele radikális művei ronthatják Bécs társadalmi megítélését\, ám érzékenyebb és fogékonyabb kortársai\, mint Gustav Klimt már akkor felismerték kivételes tehetségét. Két nő határozta meg munkásságát és az életét: húga és első múzsája\, Gréti\, valamint a 17 éves Wally\, aki kétségkívül igazi szerelme volt\, és akit a Halál és a lányka című híres festményével tett halhatatlanná. \nForrás: port.hu\n[/vc_column_text][/vc_column][/vc_row][vc_row][vc_column width=”1/2″][vc_column_text] \nAlkotók\nRendező: Dieter Berner\nForgatókönyvíró: \nDieter Berner\, Hilde Berger\nZeneszerző:André Dziezuk[/vc_column_text][/vc_column][vc_column width=”1/2″][vc_column_text] \nSzereplők\n\n\nThomas Schubert\nCornelius Obonya\nAndré Jung\nNina Proll\nLuc Feit\nWolfram Berger\nMichael Kreihsl\nNoah Saavedra\nMaresi Riegner\nValerie Pachner\n\n\n[/vc_column_text][/vc_column][/vc_row][vc_row][vc_column][vc_column_text] \nA vetítés A Vértes Agorájában lesz. A helyfoglalás az érkezés sorrendjében történik\, a nagyterem befogadóképességéig. Előzetes regisztráció nem szükséges.\n[/vc_column_text][/vc_column][/vc_row][vc_row][vc_column][vc_column_text][/vc_column_text][/vc_column][/vc_row] \n
URL:https://old.avertesagoraja.hu/program/a-halal-es-a-lanyka/
LOCATION:A Vértes Agorája\, Szent Borbála tér 1.\, Tatabánya\, 2800\, Magyarország
CATEGORIES:Kortárs Galéria,Programkínálat
ATTACH;FMTTYPE=image/jpeg:https://old.avertesagoraja.hu/wp-content/uploads/2019/09/es.jpg
END:VEVENT
END:VCALENDAR