BEGIN:VCALENDAR
VERSION:2.0
PRODID:-//A Vértes Agoraja - ECPv4.9.13//NONSGML v1.0//EN
CALSCALE:GREGORIAN
METHOD:PUBLISH
X-WR-CALNAME:A Vértes Agoraja
X-ORIGINAL-URL:https://old.avertesagoraja.hu
X-WR-CALDESC:Events for A Vértes Agoraja
BEGIN:VTIMEZONE
TZID:Europe/Helsinki
BEGIN:DAYLIGHT
TZOFFSETFROM:+0200
TZOFFSETTO:+0300
TZNAME:EEST
DTSTART:20230326T010000
END:DAYLIGHT
BEGIN:STANDARD
TZOFFSETFROM:+0300
TZOFFSETTO:+0200
TZNAME:EET
DTSTART:20231029T010000
END:STANDARD
END:VTIMEZONE
BEGIN:VEVENT
DTSTART;TZID=Europe/Helsinki:20230930T190000
DTEND;TZID=Europe/Helsinki:20230930T203000
DTSTAMP:20260425T162017
CREATED:20230721T075846Z
LAST-MODIFIED:20230926T075533Z
UID:61180-1696100400-1696105800@old.avertesagoraja.hu
SUMMARY:A döntés | Tenki Réka és Csányi Sándor előadása
DESCRIPTION:Tenki Réka és Csányi Sándor először állnak együtt egy színpadon. Dr. Edith Eva Eger világsikerű művét dolgozzák fel\, és mutatják be A Vértes Agorájában. \nTe döntesz. Arra figyelsz\, amit elvesztettél\, vagy arra\, ami még megvan. \n \n„Sokszor kérdezték tőlem\, hogy számomra mi a legfontosabb a színházban. Akármilyen irányból közelítettem meg a választ\, valahogy mindig ugyanoda lyukadtam ki: A színház legyen szórakoztató. Szórakoztatás alatt nem arra gondolok\, hogy meglett korú férfiak térdig letolt nadrágban sörhabot pacskolnak egymás hajára. A szórakoztatást leginkább úgy tudnám definiálni\, hogy ha ülsz a buszmegállóban\, leül melléd egy öreg bácsi\, és elkezdi mesélni az életét\, akkor kihagyod-e a következő két buszt\, hogy végighallgasd\, vagy sem. És ha érdekesnek találod a történetét\, az egészen biztosan nem azért van\, mert kizárólag vidám dolgokat mesélt\, hanem azért\, mert érzelmeket vált ki belőled. Az emberek erre vágynak legjobban\, hogy nagy érzéseket élhessenek át. Nagyokat nevessenek\, nagyokat sírjanak. \nEdit Éva Eger A döntés című könyve ezt tudja. Egy 93 éves nő (na jó\, 92 és fél) elmeséli az életét\, ami tele van örömmel\, szeretettel\, bájjal\, aztán egyszer csak olyan borzalmak történnek vele\, amik beleégnek az agyadba. Amit képteleség elfelejteni vagy megbocsájtani. Persze az is kiderül a könyvből\, hogy ha nem tudsz megbocsájtani\, akkor nem is fogsz tudni tovább lépni. \nJelenleg ez a legfontosabb történet az életemben. Nem csak azért fontos\, mert Rékával ez az első közös színházi munkánk\, hanem azért is\, mert azt érzem\, 47 éve arra várok\, hogy elmesélhessem ezt a történetet.\nSzeretnénk\, ha ezt ti is átélnétek velünk.  Mi azóta nem tudjuk elfeledni\, amióta először elolvastuk. Reméljük ez veletek is így lesz.”\n/ Csányi Sándor /\n \nElőadja: Tenki Réka és Csányi Sándor\nRendező: Csányi Sándor\nSzínpadra alkalmazta: Székely Csaba \n  \n  \n
URL:https://old.avertesagoraja.hu/program/a-dontes-tenki-reka-es-csanyi-sandor-eloadasa/
LOCATION:A Vértes Agorája\, Szent Borbála tér 1.\, Tatabánya\, 2800\, Magyarország
CATEGORIES:Befogadott rendezvény,Programkínálat
ATTACH;FMTTYPE=image/jpeg:https://old.avertesagoraja.hu/wp-content/uploads/2023/07/20230930_Csanyi_Dontes_800x400.jpg
END:VEVENT
END:VCALENDAR