BEGIN:VCALENDAR
VERSION:2.0
PRODID:-//A Vértes Agoraja - ECPv4.9.13//NONSGML v1.0//EN
CALSCALE:GREGORIAN
METHOD:PUBLISH
X-WR-CALNAME:A Vértes Agoraja
X-ORIGINAL-URL:https://old.avertesagoraja.hu
X-WR-CALDESC:Events for A Vértes Agoraja
BEGIN:VTIMEZONE
TZID:Europe/Paris
BEGIN:DAYLIGHT
TZOFFSETFROM:+0100
TZOFFSETTO:+0200
TZNAME:CEST
DTSTART:20170326T010000
END:DAYLIGHT
BEGIN:STANDARD
TZOFFSETFROM:+0200
TZOFFSETTO:+0100
TZNAME:CET
DTSTART:20171029T010000
END:STANDARD
END:VTIMEZONE
BEGIN:VEVENT
DTSTART;TZID=Europe/Paris:20171227T170000
DTEND;TZID=Europe/Paris:20171227T183000
DTSTAMP:20260425T142316
CREATED:20171010T115344Z
LAST-MODIFIED:20171228T083219Z
UID:27389-1514394000-1514399400@old.avertesagoraja.hu
SUMMARY:A diótörő (mesebalett)
DESCRIPTION:\n\n	\n\n        20171227_01\n\n        \n\n        \n            \n        \n\n         \n\n        \n\n            \n                \n                    ◄ Előző                \n            \n\n            \n                \n                    Következő                    ►\n                \n            \n\n            \n                Kép                1                 /                32            \n\n            \n                  \n            \n\n        \n    \n\n\nKlasszikus ajándék Karácsonyra\, a Silhouette Balett előadásában.\nCsajkovszkij utolsó színpadi műve\, a világ egyik legismertebb balettje elengedhetetlen eleme a szeretet ünnepének.\nA varázslatos mesét a Silhouette Balett eleveníti meg. Művészeti vezető: Csáky Mária \n \nBelépőjegyek kaphatók A Vértes Agorája jegypénztárában is\, korai elővételben 1.650 Ft. \nErre a rendezvényre utalványt\, valamint Cafeteria- és SZÉP Kártyát elfogadunk. Bővebb információ \n  \n  \n  \n
URL:https://old.avertesagoraja.hu/program/a-diotoro-mesebalett/
LOCATION:A Vértes Agorája\, Szent Borbála tér 1.\, Tatabánya\, 2800\, Magyarország
CATEGORIES:Programkínálat
ATTACH;FMTTYPE=image/jpeg:https://old.avertesagoraja.hu/wp-content/uploads/2017/05/Diotoro_2017_800x400_elkelt.jpg
END:VEVENT
END:VCALENDAR