BEGIN:VCALENDAR
VERSION:2.0
PRODID:-//A Vértes Agoraja - ECPv4.9.13//NONSGML v1.0//EN
CALSCALE:GREGORIAN
METHOD:PUBLISH
X-WR-CALNAME:A Vértes Agoraja
X-ORIGINAL-URL:https://old.avertesagoraja.hu
X-WR-CALDESC:Events for A Vértes Agoraja
BEGIN:VTIMEZONE
TZID:Europe/Paris
BEGIN:DAYLIGHT
TZOFFSETFROM:+0100
TZOFFSETTO:+0200
TZNAME:CEST
DTSTART:20180325T010000
END:DAYLIGHT
BEGIN:STANDARD
TZOFFSETFROM:+0200
TZOFFSETTO:+0100
TZNAME:CET
DTSTART:20181028T010000
END:STANDARD
END:VTIMEZONE
BEGIN:VEVENT
DTSTART;TZID=Europe/Paris:20180112T170000
DTEND;TZID=Europe/Paris:20180112T180000
DTSTAMP:20260425T122743
CREATED:20180105T093332Z
LAST-MODIFIED:20180105T093415Z
UID:31069-1515776400-1515780000@old.avertesagoraja.hu
SUMMARY:Le Nyomat - Sokszorosító grafikai kiállítás
DESCRIPTION:A mai sokszorosító grafika különböző korosztályai szerepelnek a kiállításon: mesterek\, akik hosszú évtizedeken keresztül szinte az összes mai grafikusművészt tanították\, s tanítványaik az elmúlt tizenöt évből. \nA kiállítást megnyitja: Révész Emese művészettörténész. \nKözreműködnek az Erkel Ferenc Zeneiskola tanárai. \nKiállítók: Ádám Zsófia | Eszik Alajos | Germán Fatime | Gollowitzer Szabina | Jónás Péter | Kárpáti Gergely | Ráskai Szabolcs | Somorjai Kiss Tibor \nA kiállítás február 16-áig látható. \n
URL:https://old.avertesagoraja.hu/program/31069/
LOCATION:Kortárs Galéria\, Szent Borbála tér 1.\, Tatabánya\, Komárom-Esztergom\, 2800\, Magyarország
CATEGORIES:Programkínálat
ATTACH;FMTTYPE=image/jpeg:https://old.avertesagoraja.hu/wp-content/uploads/2018/01/le-nyomat-800-400.jpg
END:VEVENT
END:VCALENDAR