BEGIN:VCALENDAR
VERSION:2.0
PRODID:-//A Vértes Agoraja - ECPv4.9.13//NONSGML v1.0//EN
CALSCALE:GREGORIAN
METHOD:PUBLISH
X-WR-CALNAME:A Vértes Agoraja
X-ORIGINAL-URL:https://old.avertesagoraja.hu
X-WR-CALDESC:Events for A Vértes Agoraja
BEGIN:VTIMEZONE
TZID:Europe/Paris
BEGIN:DAYLIGHT
TZOFFSETFROM:+0100
TZOFFSETTO:+0200
TZNAME:CEST
DTSTART:20190331T010000
END:DAYLIGHT
BEGIN:STANDARD
TZOFFSETFROM:+0200
TZOFFSETTO:+0100
TZNAME:CET
DTSTART:20191027T010000
END:STANDARD
END:VTIMEZONE
BEGIN:VEVENT
DTSTART;TZID=Europe/Paris:20190908T090000
DTEND;TZID=Europe/Paris:20190908T180000
DTSTAMP:20260425T162901
CREATED:20190821T125502Z
LAST-MODIFIED:20190822T053025Z
UID:46607-1567933200-1567965600@old.avertesagoraja.hu
SUMMARY:24. Peron Music Tehetségkutató
DESCRIPTION:A Peron Music Tehetségkutató Fesztivál az ország legrégebbi szakmai tehetségkutató rendezvénye. 24 éve segíti a feltörekvő zenekarokat tehetségük kibontakoztatásában. Olyan\, ma már országosan ismert előadók és zenekarok tűntek itt fel\, mint például a Margaret Island\, Szatmári Juli vagy az Aurevoir. \nA korábbi évekhez hasonlóan idén is 10 zenekar kerül be a tatabányai döntőbe. A győztes részt vesz az Öröm a zene budapesti nagydöntőjén\, ahol – a dicsőség mellett – 3 millió forintért folyik a versengés. \n \nA tatabányai döntő diákzsűrijébe ezúttal is várjuk azokat a fiatalokat\, akik már betöltötték a 14. életévüket.\nJelentkezés: info@peronmusic.hu \n
URL:https://old.avertesagoraja.hu/program/24-peron-music-tehetsegkutato/
LOCATION:A Vértes Agorája\, Szent Borbála tér 1.\, Tatabánya\, 2800\, Magyarország
CATEGORIES:Programkínálat
ATTACH;FMTTYPE=image/jpeg:https://old.avertesagoraja.hu/wp-content/uploads/2019/08/Peron_2019_800x400.jpg
END:VEVENT
END:VCALENDAR